{"text_format":"3","workbook":"xlsx","n_sheets":1,"sheets":["Лист1"],"not_rendered":{"external_links":2},"read":"whole","date_system":"1900"}

{"sheet":"Лист1","index":0,"n_rows":8,"n_cols":9,"rows_kept":8,"merged":[[0,0,0,2]]}
[{"$f":"'[1]4'!A1","v":"МАОУ \"МАОУ \"Лицей№121\""},null,null,{"$f":"'[1]4'!$D$1","v":"Отд./корп"},{"$f":"'[1]4'!$E$1","v":"А.Камалеева,22, Космонавтов,19"},null,null,{"$f":"'[1]4'!$H$1","v":"День"},"2023-09-12"]
[{"$f":"'[1]4'!A2","v":"Раздел"},{"$f":"'[1]4'!B2","v":"№ рец."},{"$f":"'[1]4'!C2","v":"Блюдо"},{"$f":"'[1]4'!D2","v":"Выход, г"},{"$f":"'[1]4'!E2","v":"Цена"},{"$f":"'[1]4'!F2","v":"Калорийность"},{"$f":"'[1]4'!G2","v":"Белки"},{"$f":"'[1]4'!H2","v":"Жиры"},{"$f":"'[1]4'!I2","v":"Углеводы"}]
[{"$f":"'[2]1-2, 11-16, 25-30 сент.'!B10","v":"гор.блюдо"},{"$f":"'[2]1-2, 11-16, 25-30 сент.'!C10","v":"ТТК от 19.07.2023 г"},{"$f":"'[2]1-2, 11-16, 25-30 сент.'!D10","v":"Тефтели из говядины в соусе томатном"},{"$f":"'[2]1-2, 11-16, 25-30 сент.'!E10","v":90},null,{"$f":"'[2]1-2, 11-16, 25-30 сент.'!G10","v":103},{"$f":"'[2]1-2, 11-16, 25-30 сент.'!H10","v":8.6},{"$f":"'[2]1-2, 11-16, 25-30 сент.'!I10","v":2.8},{"$f":"'[2]1-2, 11-16, 25-30 сент.'!J10","v":10.9}]
[{"$f":"'[2]1-2, 11-16, 25-30 сент.'!B11","v":"гор.блюдо"},{"$f":"'[2]1-2, 11-16, 25-30 сент.'!C11","v":"ТТК"},{"$f":"'[2]1-2, 11-16, 25-30 сент.'!D11","v":"Картофель запечённый"},{"$f":"'[2]1-2, 11-16, 25-30 сент.'!E11","v":160},null,{"$f":"'[2]1-2, 11-16, 25-30 сент.'!G11","v":239},{"$f":"'[2]1-2, 11-16, 25-30 сент.'!H11","v":4.64},{"$f":"'[2]1-2, 11-16, 25-30 сент.'!I11","v":7.71},{"$f":"'[2]1-2, 11-16, 25-30 сент.'!J11","v":37.8}]
[{"$f":"'[2]1-2, 11-16, 25-30 сент.'!B12","v":"гор.напиток"},{"$f":"'[2]1-2, 11-16, 25-30 сент.'!C12","v":"ТТК 2021 г"},{"$f":"'[2]1-2, 11-16, 25-30 сент.'!D12","v":"Напиток из шиповника"},{"$f":"'[2]1-2, 11-16, 25-30 сент.'!E12","v":180},null,{"$f":"'[2]1-2, 11-16, 25-30 сент.'!G12","v":45},{"$f":"'[2]1-2, 11-16, 25-30 сент.'!H12","v":0.69},{"$f":"'[2]1-2, 11-16, 25-30 сент.'!I12","v":0.34},{"$f":"'[2]1-2, 11-16, 25-30 сент.'!J12","v":9.26}]
[{"$f":"'[2]1-2, 11-16, 25-30 сент.'!B13","v":"закуска"},{"$f":"'[2]1-2, 11-16, 25-30 сент.'!C13","v":"№ 532/2013г, Самара"},{"$f":"'[2]1-2, 11-16, 25-30 сент.'!D13","v":"Салат-бар (Огурцы свежая порциями, помидоры, фасоль конс., сухарики, масло раст.)"},{"$f":"'[2]1-2, 11-16, 25-30 сент.'!E13","v":60},null,{"$f":"'[2]1-2, 11-16, 25-30 сент.'!G13","v":90},{"$f":"'[2]1-2, 11-16, 25-30 сент.'!H13","v":1.62},{"$f":"'[2]1-2, 11-16, 25-30 сент.'!I13","v":6.1},{"$f":"'[2]1-2, 11-16, 25-30 сент.'!J13","v":6.92}]
[{"$f":"'[2]1-2, 11-16, 25-30 сент.'!B14","v":"хлеб"},{"$f":"'[2]1-2, 11-16, 25-30 сент.'!C14","v":"ТТК"},{"$f":"'[2]1-2, 11-16, 25-30 сент.'!D14","v":"Хлебная корзина (хлеб пш., хлеб рж.-пш.)"},{"$f":"'[2]1-2, 11-16, 25-30 сент.'!E14","v":40},null,{"$f":"'[2]1-2, 11-16, 25-30 сент.'!G14","v":91},{"$f":"'[2]1-2, 11-16, 25-30 сент.'!H14","v":2.52},{"$f":"'[2]1-2, 11-16, 25-30 сент.'!I14","v":0.36},{"$f":"'[2]1-2, 11-16, 25-30 сент.'!J14","v":18.84}]
["ИТОГО",null,null,{"$f":"'[2]1-2, 11-16, 25-30 сент.'!E15","v":530},null,{"$f":"'[2]1-2, 11-16, 25-30 сент.'!G15","v":568},{"$f":"'[2]1-2, 11-16, 25-30 сент.'!H15","v":18.069999999999997},{"$f":"'[2]1-2, 11-16, 25-30 сент.'!I15","v":17.31},{"$f":"'[2]1-2, 11-16, 25-30 сент.'!J15","v":83.72}]